BEGIN:VCALENDAR
VERSION:2.0
PRODID:icalendar-ruby
CALSCALE:GREGORIAN
METHOD:PUBLISH
BEGIN:VEVENT
DTSTAMP:20260423T182703Z
UID:60-492281@parklanechurchofgod.com
DTSTART:20230910T124500Z
DTEND:20230910T131500Z
CLASS:PUBLIC
CREATED:20260423T124155
DESCRIPTION:
LAST-MODIFIED:20260423T124155
LOCATION:Park Lane Church of God
SUMMARY:GATEKEEPERS Prayer group
URL;VALUE=URI:https://www.parklanechurchofgod.com/events/gatekeepers-prayer
 -group/2023-09-10
ATTACH;FILENAME=praying-hands.jpg;FMTTYPE=image/jpeg:https://dq5pwpg1q8ru0.
 cloudfront.net/2023/03/07/06/43/44/cc0d2fb6-75ea-4595-b0ef-e848dff0d162/pr
 aying-hands.jpg
END:VEVENT
END:VCALENDAR
