BEGIN:VCALENDAR
VERSION:2.0
PRODID:icalendar-ruby
CALSCALE:GREGORIAN
METHOD:PUBLISH
BEGIN:VEVENT
DTSTAMP:20260424T120538Z
UID:60-493668@parklanechurchofgod.com
DTSTART:20260927T123000Z
DTEND:20260927T130000Z
CLASS:PUBLIC
CREATED:20260424T065359
DESCRIPTION:
LAST-MODIFIED:20260424T065359
LOCATION:Park Lane Church of God
SUMMARY:GATEKEEPERS Prayer group
URL;VALUE=URI:https://www.parklanechurchofgod.com/events/gatekeepers-prayer
 -group/2026-09-27
ATTACH;FILENAME=praying-hands.jpg;FMTTYPE=image/jpeg:https://dq5pwpg1q8ru0.
 cloudfront.net/2023/03/07/06/43/44/cc0d2fb6-75ea-4595-b0ef-e848dff0d162/pr
 aying-hands.jpg
END:VEVENT
END:VCALENDAR
