BEGIN:VCALENDAR
VERSION:2.0
PRODID:icalendar-ruby
CALSCALE:GREGORIAN
METHOD:PUBLISH
BEGIN:VEVENT
DTSTAMP:20260424T114420Z
UID:90-493783@parklanechurchofgod.com
DTSTART:20260927T133000Z
DTEND:20260927T151500Z
CLASS:PUBLIC
CREATED:20260424T065400
DESCRIPTION:
LAST-MODIFIED:20260424T065400
LOCATION:Park Lane Church of God
SUMMARY:Sunday Service
URL;VALUE=URI:https://www.parklanechurchofgod.com/events/sunday-service/202
 6-09-27
END:VEVENT
END:VCALENDAR
