BEGIN:VCALENDAR
VERSION:2.0
PRODID:icalendar-ruby
CALSCALE:GREGORIAN
METHOD:PUBLISH
BEGIN:VEVENT
DTSTAMP:20260424T125936Z
UID:90-493784@parklanechurchofgod.com
DTSTART:20261004T133000Z
DTEND:20261004T151500Z
CLASS:PUBLIC
CREATED:20260424T065400
DESCRIPTION:
LAST-MODIFIED:20260424T065400
LOCATION:Park Lane Church of God
SUMMARY:Sunday Service
URL;VALUE=URI:https://www.parklanechurchofgod.com/events/sunday-service/202
 6-10-04
END:VEVENT
END:VCALENDAR
