BEGIN:VCALENDAR
VERSION:2.0
PRODID:icalendar-ruby
CALSCALE:GREGORIAN
METHOD:PUBLISH
BEGIN:VEVENT
DTSTAMP:20260424T141640Z
UID:90-494092@parklanechurchofgod.com
DTSTART:20261011T133000Z
DTEND:20261011T151500Z
CLASS:PUBLIC
CREATED:20260424T094827
DESCRIPTION:
LAST-MODIFIED:20260424T094827
LOCATION:Park Lane Church of God
SUMMARY:Sunday Service
URL;VALUE=URI:https://www.parklanechurchofgod.com/events/sunday-service/202
 6-10-11
END:VEVENT
END:VCALENDAR
