BEGIN:VCALENDAR
VERSION:2.0
PRODID:icalendar-ruby
CALSCALE:GREGORIAN
METHOD:PUBLISH
BEGIN:VEVENT
DTSTAMP:20260424T180832Z
UID:90-494402@parklanechurchofgod.com
DTSTART:20261101T143000Z
DTEND:20261101T161500Z
CLASS:PUBLIC
CREATED:20260424T123848
DESCRIPTION:
LAST-MODIFIED:20260424T123848
LOCATION:Park Lane Church of God
SUMMARY:Sunday Service
URL;VALUE=URI:https://www.parklanechurchofgod.com/events/sunday-service/202
 6-11-01
END:VEVENT
END:VCALENDAR
